BEGIN:VCALENDAR
VERSION:2.0
PRODID:-//Things To Do In Melton Mowbray - ECPv6.15.20//NONSGML v1.0//EN
CALSCALE:GREGORIAN
METHOD:PUBLISH
X-WR-CALNAME:Things To Do In Melton Mowbray
X-ORIGINAL-URL:https://thingstodoinmeltonmowbray.co.uk
X-WR-CALDESC:Events for Things To Do In Melton Mowbray
REFRESH-INTERVAL;VALUE=DURATION:PT1H
X-Robots-Tag:noindex
X-PUBLISHED-TTL:PT1H
BEGIN:VTIMEZONE
TZID:Europe/London
BEGIN:DAYLIGHT
TZOFFSETFROM:+0000
TZOFFSETTO:+0100
TZNAME:BST
DTSTART:20250330T010000
END:DAYLIGHT
BEGIN:STANDARD
TZOFFSETFROM:+0100
TZOFFSETTO:+0000
TZNAME:GMT
DTSTART:20251026T010000
END:STANDARD
BEGIN:DAYLIGHT
TZOFFSETFROM:+0000
TZOFFSETTO:+0100
TZNAME:BST
DTSTART:20260329T010000
END:DAYLIGHT
BEGIN:STANDARD
TZOFFSETFROM:+0100
TZOFFSETTO:+0000
TZNAME:GMT
DTSTART:20261025T010000
END:STANDARD
BEGIN:DAYLIGHT
TZOFFSETFROM:+0000
TZOFFSETTO:+0100
TZNAME:BST
DTSTART:20270328T010000
END:DAYLIGHT
BEGIN:STANDARD
TZOFFSETFROM:+0100
TZOFFSETTO:+0000
TZNAME:GMT
DTSTART:20271031T010000
END:STANDARD
END:VTIMEZONE
BEGIN:VEVENT
DTSTART;TZID=Europe/London:20260516T190000
DTEND;TZID=Europe/London:20260516T190000
DTSTAMP:20260419T192604
CREATED:20260417T104627Z
LAST-MODIFIED:20260417T105207Z
UID:248-1778958000-1778958000@thingstodoinmeltonmowbray.co.uk
SUMMARY:Scarborough Fare Fish – Taster Evening
DESCRIPTION:Enjoy an arrival drink followed by five carefully prepared fish tasting dishes\, all for £35 per person. \n\n\n\nThroughout the evening you will be guided through each dish and learn more about the fish featured in the tasting. \n\n\n\nEmail events@thepieshop.co.uk for more information or to reserve your space.
URL:https://thingstodoinmeltonmowbray.co.uk/event/scarborough-fare-fish-taster-evening/
LOCATION:The Pie Shop\, 10 Church Street\, Melton Mowbray\, Leicestershire\, LE13 0PN\, United Kingdom
ATTACH;FMTTYPE=image/png:https://thingstodoinmeltonmowbray.co.uk/wp-content/uploads/2026/04/Fish-Night-4.png
END:VEVENT
END:VCALENDAR